BEGIN:VCALENDAR
VERSION:2.0
PRODID:-//Tukios.com/
BEGIN:VEVENT
UID:43737e56-128a-40f1-a234-844e42c21c57@www.delehantyfuneralhome.com
DTSTAMP:20260422T024803Z
DTSTART:20260501T160000Z
DTEND:20260501T170000Z
SUMMARY:Memorial Mass
DESCRIPTION:
URL:https://www.delehantyfuneralhome.com/obituaries/phyllis-bumgarner
LOCATION: 600 Clifford Avenue  Loves Park IL 61111
GEO:42.3182129;-89.0532264
END:VEVENT
END:VCALENDAR