BEGIN:VCALENDAR
VERSION:2.0
PRODID:-//Tukios.com/
BEGIN:VEVENT
UID:1c295831-46a0-40fc-bf6c-d8e442d12b9c@www.delehantyfuneralhome.com
DTSTAMP:20260422T024829Z
DTSTART:20260501T150000Z
DTEND:20260501T160000Z
SUMMARY:Memorial Visitation
DESCRIPTION:
URL:https://www.delehantyfuneralhome.com/obituaries/phyllis-bumgarner
LOCATION: 600 Clifford Avenue  Loves Park IL 61111
GEO:42.3182129;-89.0532264
END:VEVENT
END:VCALENDAR