BEGIN:VCALENDAR
VERSION:2.0
PRODID:-//Tukios.com/
BEGIN:VEVENT
UID:1663e59d-a575-4e79-991c-bfffe43a8c4a@www.delehantyfuneralhome.com
DTSTAMP:20260424T172834Z
DTSTART:20260429T230000Z
DTEND:20260430T000000Z
SUMMARY:Funeral Service
DESCRIPTION:
URL:https://www.delehantyfuneralhome.com/obituaries/phillip-bailey
LOCATION:Delehanty Funeral Home 401 River Ln  Loves Park IL 61111
GEO:42.3102558;-89.0594761
END:VEVENT
END:VCALENDAR