BEGIN:VCALENDAR
VERSION:2.0
PRODID:-//Tukios.com/
BEGIN:VEVENT
UID:7ba7a7e9-3f9c-4b45-b95d-0aa5dfc59150@www.delehantyfuneralhome.com
DTSTAMP:20260424T172946Z
DTSTART:20260429T220000Z
DTEND:20260429T230000Z
SUMMARY:Visitation
DESCRIPTION:
URL:https://www.delehantyfuneralhome.com/obituaries/phillip-bailey
LOCATION:Delehanty Funeral Home 401 River Ln  Loves Park IL 61111
GEO:42.3102558;-89.0594761
END:VEVENT
END:VCALENDAR