BEGIN:VCALENDAR
VERSION:2.0
PRODID:-//Tukios.com/
BEGIN:VEVENT
UID:c4323eda-6a3a-4c81-8a63-32ca5ff74e69@www.delehantyfuneralhome.com
DTSTAMP:20260421T022207Z
DTSTART:20260423T193000Z
DTEND:20260423T203000Z
SUMMARY:Graveside Service
DESCRIPTION:
URL:https://www.delehantyfuneralhome.com/obituaries/margaret-carlson
LOCATION: 7000 West State Street  Rockford IL 61102
GEO:42.2790713;-89.1734643
END:VEVENT
END:VCALENDAR