BEGIN:VCALENDAR
VERSION:2.0
PRODID:-//Tukios.com/
BEGIN:VEVENT
UID:6350c1be-8532-4a0f-b59c-a0a6ebbaa7bd@www.delehantyfuneralhome.com
DTSTAMP:20260421T022440Z
DTSTART:20260423T180000Z
DTEND:20260423T190000Z
SUMMARY:Visitation
DESCRIPTION:
URL:https://www.delehantyfuneralhome.com/obituaries/margaret-carlson
LOCATION:Delehanty Funeral Home 401 River Ln  Loves Park IL 61111
GEO:42.3102558;-89.0594761
END:VEVENT
END:VCALENDAR