BEGIN:VCALENDAR
VERSION:2.0
PRODID:-//Tukios.com/
BEGIN:VEVENT
UID:a0c3792e-9d2d-467b-9091-5485dc26cf11@www.delehantyfuneralhome.com
DTSTAMP:20260421T194542Z
DTSTART:20260424T153000Z
DTEND:20260424T163000Z
SUMMARY:Visitation
DESCRIPTION:
URL:https://www.delehantyfuneralhome.com/obituaries/joseph-wadzinski
LOCATION:Delehanty Funeral Home 401 River Ln  Loves Park IL 61111
GEO:42.3102558;-89.0594761
END:VEVENT
END:VCALENDAR