BEGIN:VCALENDAR
VERSION:2.0
PRODID:-//Tukios.com/
BEGIN:VEVENT
UID:de051db1-6d5a-41d8-8395-5dd98c28f17d@www.delehantyfuneralhome.com
DTSTAMP:20260421T194349Z
DTSTART:20260424T180000Z
DTEND:20260424T190000Z
SUMMARY:Graveside Service
DESCRIPTION:
URL:https://www.delehantyfuneralhome.com/obituaries/joseph-wadzinski
LOCATION: 416 South Dement Avenue  Dixon IL 61021
GEO:41.8407664;-89.471514
END:VEVENT
END:VCALENDAR