BEGIN:VCALENDAR
VERSION:2.0
PRODID:-//Tukios.com/
BEGIN:VEVENT
UID:5a7df318-37a4-4e02-9ec4-3f491e6102ba@www.delehantyfuneralhome.com
DTSTAMP:20260422T010803Z
DTSTART:20260427T160000Z
DTEND:20260427T170000Z
SUMMARY:Mass
DESCRIPTION:
URL:https://www.delehantyfuneralhome.com/obituaries/bernadette-furon
LOCATION: 201 Buckbee Street  Rockford IL 61104
GEO:42.252702;-89.096068
END:VEVENT
END:VCALENDAR