BEGIN:VCALENDAR
VERSION:2.0
PRODID:-//Tukios.com/
BEGIN:VEVENT
UID:0179b972-1d30-4013-b7d4-1aca5e8d1f88@www.delehantyfuneralhome.com
DTSTAMP:20260422T011033Z
DTSTART:20260427T150000Z
DTEND:20260427T160000Z
SUMMARY:Visitation
DESCRIPTION:
URL:https://www.delehantyfuneralhome.com/obituaries/bernadette-furon
LOCATION:St. Stanislaus Kostka Catholic Church 201 Buckbee Street  
	Rockford IL 61104
GEO:42.252702;-89.096068
END:VEVENT
END:VCALENDAR